BEGIN:VCALENDAR
VERSION:2.0
PRODID:-//Kommunalfabrik Ratsinformationssystem https://ris-woldegk.komfa.de/
X-WR-TIMEZONE:Europe/Berlin
X-WR-CALNAME:Sitzungskalender
X-WR-CALDESC:Ratsinformationssystem Stadt Woldegk
BEGIN:VEVENT
UID:E3ADF29485A03FAFED142BD800FD39B4
ORGANIZER;CN="":MAILTO:
LOCATION:Holzendorf Gebäude der Freiwilligen Feuerwehr
SUMMARY:Gemeindevertretersitzung, Gemeinde Groß Miltzow
DESCRIPTION:Gemeindevertretersitzung, Gemeinde Groß Miltzow, Gemeindevertretung, Holzendorf, Gebäude der Freiwilligen Feuerwehr
CLASS:CONFIDENTIAL
DTSTART:20260421T160000Z
DTEND:20260421T215900Z
DTSTAMP:20260421T082621Z
END:VEVENT
END:VCALENDAR